Workbook

Sheet Hoja2
D2: 1 | E2: 1 | F2: Positivo | G2: Si | H2: Normal
D3: 5 | E3: 10 | F3: Negativo | G3: No | H3: Anormal
D4: 10 | G4: N/A | H4: Emergencia

Sheet MIAVIA
A7: MATRIZ DE IDENTIFICACIÓN DE ASPECTOS Y VALORACIÓN DE IMPACTOS AMBIENTALES.
A8: PROCESO: | E8: PLANEACIÓN INTEGRAL
A9: PROCEDIMIENTO: | E9: IDENTIFICACIÓN DE ASPECTOS Y EVALUACIÓN DE IMPACTOS AMBIENTALES.
A10: FECHA DE APROBACIÓN | E10: CÓDIGO | J10: VERSIÓN | R10: PÁGINA
A11: 46303 | E11: PI27-FOR04 | J11: 2 | R11: 1 de 1
A13: N° | B13: Identificación Aspectos e Impactos | H13: Recurso | I13: Tipo de Impacto | J13: Evaluación del Impacto Ambiental | Q13: Rango de Importancia | R13: Cumple con la Normatividad | S13: Significancia del Impacto
B14: Proceso/ Área/Grupo | C14: Actividad/Producto/Servicio | D14: Regularidad | E14: Etapa Ciclo de Vida | F14: Aspecto Ambiental | G14: Impacto Ambiental | J14: Alcance | K14: Probabilidad | L14: Duración | M14: Recuperabilidad | N14: Cantidad | O14: Normatividad | P14: Importancia
A15: 1 | P15: =IF(AND(J15<>"",K15<>"",L15<>"",M15<>"",N15<>"",O15<>""),J15*K15*L15*M15*N15*O15,"") | Q15: =IF(P15<>"",IF(P15<=25000,"Baja",IF(P15<=125000,"Moderada",IF(P15>125000,"Alta",""))),"") | S15: =IF(OR(Q15<>"",R15<>""),IF(AND(Q15="Baja",OR(R15="Si",R15="N/A")),"No Significativo","Significativo"),"")
A16: =A15+1 -> 2 | P16: =IF(AND(J16<>"",K16<>"",L16<>"",M16<>"",N16<>"",O16<>""),J16*K16*L16*M16*N16*O16,"") | Q16: =IF(P16<>"",IF(P16<=25000,"Baja",IF(P16<=125000,"Moderada",IF(P16>125000,"Alta",""))),"") | S16: =IF(OR(Q16<>"",R16<>""),IF(AND(Q16="Baja",OR(R16="Si",R16="N/A")),"No Significativo","Significativo"),"")
A17: =A16+1 -> 3 | P17: =IF(AND(J17<>"",K17<>"",L17<>"",M17<>"",N17<>"",O17<>""),J17*K17*L17*M17*N17*O17,"") | Q17: =IF(P17<>"",IF(P17<=25000,"Baja",IF(P17<=125000,"Moderada",IF(P17>125000,"Alta",""))),"") | S17: =IF(OR(Q17<>"",R17<>""),IF(AND(Q17="Baja",OR(R17="Si",R17="N/A")),"No Significativo","Significativo"),"")
A18: =A17+1 -> 4 | P18: =IF(AND(J18<>"",K18<>"",L18<>"",M18<>"",N18<>"",O18<>""),J18*K18*L18*M18*N18*O18,"") | Q18: =IF(P18<>"",IF(P18<=25000,"Baja",IF(P18<=125000,"Moderada",IF(P18>125000,"Alta",""))),"") | S18: =IF(OR(Q18<>"",R18<>""),IF(AND(Q18="Baja",OR(R18="Si",R18="N/A")),"No Significativo","Significativo"),"")
A19: =A18+1 -> 5 | P19: =IF(AND(J19<>"",K19<>"",L19<>"",M19<>"",N19<>"",O19<>""),J19*K19*L19*M19*N19*O19,"") | Q19: =IF(P19<>"",IF(P19<=25000,"Baja",IF(P19<=125000,"Moderada",IF(P19>125000,"Alta",""))),"") | S19: =IF(OR(Q19<>"",R19<>""),IF(AND(Q19="Baja",OR(R19="Si",R19="N/A")),"No Significativo","Significativo"),"")
A20: =A19+1 -> 6 | P20: =IF(AND(J20<>"",K20<>"",L20<>"",M20<>"",N20<>"",O20<>""),J20*K20*L20*M20*N20*O20,"") | Q20: =IF(P20<>"",IF(P20<=25000,"Baja",IF(P20<=125000,"Moderada",IF(P20>125000,"Alta",""))),"") | S20: =IF(OR(Q20<>"",R20<>""),IF(AND(Q20="Baja",OR(R20="Si",R20="N/A")),"No Significativo","Significativo"),"")
A21: =A20+1 -> 7 | P21: =IF(AND(J21<>"",K21<>"",L21<>"",M21<>"",N21<>"",O21<>""),J21*K21*L21*M21*N21*O21,"") | Q21: =IF(P21<>"",IF(P21<=25000,"Baja",IF(P21<=125000,"Moderada",IF(P21>125000,"Alta",""))),"") | S21: =IF(OR(Q21<>"",R21<>""),IF(AND(Q21="Baja",OR(R21="Si",R21="N/A")),"No Significativo","Significativo"),"")
A22: =A21+1 -> 8 | P22: =IF(AND(J22<>"",K22<>"",L22<>"",M22<>"",N22<>"",O22<>""),J22*K22*L22*M22*N22*O22,"") | Q22: =IF(P22<>"",IF(P22<=25000,"Baja",IF(P22<=125000,"Moderada",IF(P22>125000,"Alta",""))),"") | S22: =IF(OR(Q22<>"",R22<>""),IF(AND(Q22="Baja",OR(R22="Si",R22="N/A")),"No Significativo","Significativo"),"")
A23: =A22+1 -> 9 | P23: =IF(AND(J23<>"",K23<>"",L23<>"",M23<>"",N23<>"",O23<>""),J23*K23*L23*M23*N23*O23,"") | Q23: =IF(P23<>"",IF(P23<=25000,"Baja",IF(P23<=125000,"Moderada",IF(P23>125000,"Alta",""))),"") | S23: =IF(OR(Q23<>"",R23<>""),IF(AND(Q23="Baja",OR(R23="Si",R23="N/A")),"No Significativo","Significativo"),"")
A24: 10 | P24: =IF(AND(J24<>"",K24<>"",L24<>"",M24<>"",N24<>"",O24<>""),J24*K24*L24*M24*N24*O24,"") | Q24: =IF(P24<>"",IF(P24<=25000,"Baja",IF(P24<=125000,"Moderada",IF(P24>125000,"Alta",""))),"") | S24: =IF(OR(Q24<>"",R24<>""),IF(AND(Q24="Baja",OR(R24="Si",R24="N/A")),"No Significativo","Significativo"),"")
A25: 11 | P25: =IF(AND(J25<>"",K25<>"",L25<>"",M25<>"",N25<>"",O25<>""),J25*K25*L25*M25*N25*O25,"") | Q25: =IF(P25<>"",IF(P25<=25000,"Baja",IF(P25<=125000,"Moderada",IF(P25>125000,"Alta",""))),"") | S25: =IF(OR(Q25<>"",R25<>""),IF(AND(Q25="Baja",OR(R25="Si",R25="N/A")),"No Significativo","Significativo"),"")
A26: 12 | P26: =IF(AND(J26<>"",K26<>"",L26<>"",M26<>"",N26<>"",O26<>""),J26*K26*L26*M26*N26*O26,"") | Q26: =IF(P26<>"",IF(P26<=25000,"Baja",IF(P26<=125000,"Moderada",IF(P26>125000,"Alta",""))),"") | S26: =IF(OR(Q26<>"",R26<>""),IF(AND(Q26="Baja",OR(R26="Si",R26="N/A")),"No Significativo","Significativo"),"")
A27: 13 | P27: =IF(AND(J27<>"",K27<>"",L27<>"",M27<>"",N27<>"",O27<>""),J27*K27*L27*M27*N27*O27,"") | Q27: =IF(P27<>"",IF(P27<=25000,"Baja",IF(P27<=125000,"Moderada",IF(P27>125000,"Alta",""))),"") | S27: =IF(OR(Q27<>"",R27<>""),IF(AND(Q27="Baja",OR(R27="Si",R27="N/A")),"No Significativo","Significativo"),"")
A28: 14 | P28: =IF(AND(J28<>"",K28<>"",L28<>"",M28<>"",N28<>"",O28<>""),J28*K28*L28*M28*N28*O28,"") | Q28: =IF(P28<>"",IF(P28<=25000,"Baja",IF(P28<=125000,"Moderada",IF(P28>125000,"Alta",""))),"") | S28: =IF(OR(Q28<>"",R28<>""),IF(AND(Q28="Baja",OR(R28="Si",R28="N/A")),"No Significativo","Significativo"),"")
A29: 15 | P29: =IF(AND(J29<>"",K29<>"",L29<>"",M29<>"",N29<>"",O29<>""),J29*K29*L29*M29*N29*O29,"") | Q29: =IF(P29<>"",IF(P29<=25000,"Baja",IF(P29<=125000,"Moderada",IF(P29>125000,"Alta",""))),"") | S29: =IF(OR(Q29<>"",R29<>""),IF(AND(Q29="Baja",OR(R29="Si",R29="N/A")),"No Significativo","Significativo"),"")

Sheet Resumen
A7: MATRIZ DE IDENTIFICACIÓN DE ASPECTOS Y VALORACIÓN DE IMPACTOS AMBIENTALES.
A8: PROCESO: | E8: PLANEACIÓN INTEGRAL
A9: PROCEDIMIENTO: | E9: IDENTIFICACIÓN DE ASPECTOS Y EVALUACIÓN DE IMPACTOS AMBIENTALES.
A10: FECHA DE APROBACIÓN | E10: CÓDIGO | H10: VERSIÓN | M10: PÁGINA
A11: 46303 | E11: PI27-FOR04 | H11: 2 | M11: 1 de 1
A13: RESUMEN
A14: N° | B14: Proceso/ Área | C14: Significancia del Impacto | D14: Rango de Importancia | E14: Aspecto Ambiental | F14: Impacto Ambiental | G14: Planeación Integral | H14: Comunicación Pública | I14: Normalización y Culturización Contable | J14: Centralización de la información | K14: Consolidación de la información | L14: Gestión Humana | M14: Gestión Administrativa | N14: Gestión Recursos Financieros | O14: Gestión TICs | P14: Gestión Jurídica | Q14: Control y Evaluación
A15: 1
A16: 2
A17: 3
A18: 4
A19: 5
A20: 6
A21: 7
A22: 8
A23: 9
A24: 10
A25: 11
A26: 12
... A29: 15

Sheet Revisiones
A7: =MIAVIA!A7 -> MATRIZ DE IDENTIFICACIÓN DE ASPECTOS Y VALORACIÓN DE IMPACTOS AMBIENTALES.
A8: PROCESO: | B8: =MIAVIA!E8 -> PLANEACIÓN INTEGRAL
A9: PROCEDIMIENTO: | B9: =MIAVIA!E9 -> IDENTIFICACIÓN DE ASPECTOS Y EVALUACIÓN DE IMPACTOS AMBIENTALES.
A10: FECHA DE APROBACIÓN | B10: CÓDIGO | C10: VERSIÓN | D10: PÁGINA
A11: =MIAVIA!A11 -> 46303 | B11: =MIAVIA!E11 -> PI27-FOR04 | C11: =MIAVIA!J11 -> 2 | D11: =MIAVIA!R11 -> 1 de 1
A14: Revisiones realizadas
A15: Fecha | B15: Responsable | C15: Revisión
A16: 45601 | B16: David Santiago Arévalo Monroy | C16: Identificación de aspectos e impactos ambientales asociados a las actividades desarrolladas por la CGN
A17: 45945 | B17: David Santiago Arévalo Monroy | C17: Se realiza revisión de los aspectos e impactos ambientales identificados de acuerdo con las actividades de la entidad, de igual forma, se realiza una reevaluación sin que se observen cambios en la Significancia del impacto. Se realiza la inclusión del registro 15 de la hora MIAVIA, resuktando un impacto ambiental positivo significativo.
B18: David Santiago Arévalo Monroy | C18: Se integra el concepto de cambio climático por la relación de los aspectos ambinetales y los impactos asociados a la generación de GEI
